BEGIN:VCALENDAR
VERSION:2.0
PRODID:-//Doppelpunkt//Events//DE
CALSCALE:GREGORIAN
METHOD:PUBLISH
BEGIN:VEVENT
UID:event-882@www.doppelpunkt.de
DTSTAMP:20260419T165058
DTSTART:20251109T110000
DTEND:20251109T110000
SUMMARY:"Lahme Ente\, blindes Huhn"\, von Ulrich Hub\, ab 6 J.
LOCATION:Stadttheater Foyer\, Königstr. 116\, 90762 Fürth
STATUS:CONFIRMED
END:VEVENT
END:VCALENDAR