BEGIN:VCALENDAR
VERSION:2.0
PRODID:-//Doppelpunkt//Events//DE
CALSCALE:GREGORIAN
METHOD:PUBLISH
BEGIN:VEVENT
UID:event-878@www.doppelpunkt.de
DTSTAMP:20260421T111546
DTSTART:20260128T193000
DTEND:20260129T235900
SUMMARY:"State of the Union"\, von Nick Hornby
LOCATION:Stadttheater Foyer\, Königstr. 116\, 90762 Fürth
STATUS:CONFIRMED
END:VEVENT
END:VCALENDAR