BEGIN:VCALENDAR
VERSION:2.0
PRODID:-//Doppelpunkt//Events//DE
CALSCALE:GREGORIAN
METHOD:PUBLISH
BEGIN:VEVENT
UID:event-870@www.doppelpunkt.de
DTSTAMP:20260419T151928
DTSTART:20260210T200000
DTEND:20260210T200000
SUMMARY:"NippleJesus"\, von Nick Hornby
LOCATION:Stadttheater Foyer\, Königstr. 116\, 90762 Fürth
STATUS:CONFIRMED
END:VEVENT
END:VCALENDAR