BEGIN:VCALENDAR
VERSION:2.0
PRODID:-//Doppelpunkt//Events//DE
CALSCALE:GREGORIAN
METHOD:PUBLISH
BEGIN:VEVENT
UID:event-869@www.doppelpunkt.de
DTSTAMP:20260425T135519
DTSTART:20251017T200000
DTEND:20251017T200000
SUMMARY:Stadttheater Fürth: "NippleJesus"\, von Nick Hornby
LOCATION:VHS\, Hirschenstr. 27\, 90762 Fürth
STATUS:CONFIRMED
END:VEVENT
END:VCALENDAR