BEGIN:VCALENDAR
VERSION:2.0
PRODID:-//Doppelpunkt//Events//DE
CALSCALE:GREGORIAN
METHOD:PUBLISH
BEGIN:VEVENT
UID:event-864@www.doppelpunkt.de
DTSTAMP:20260420T234703
DTSTART:20251004T200000
DTEND:20251004T200000
SUMMARY:Nils Heinrich: "Brückentage in Übergangsjacke"
LOCATION:Fifty Fifty\, Südliche Stadtmauerstr. 1\, 91054 Erlangen
STATUS:CONFIRMED
END:VEVENT
END:VCALENDAR