BEGIN:VCALENDAR
VERSION:2.0
PRODID:-//Doppelpunkt//Events//DE
CALSCALE:GREGORIAN
METHOD:PUBLISH
BEGIN:VEVENT
UID:event-813-8044@www.doppelpunkt.de
DTSTAMP:20260421T110146
DTSTART:20260425T193000
DTEND:20260425T213000
SUMMARY:„74 Minuten“\, von Raphaela Bardutzky
LOCATION:Kammerspiele\, Richard-Wagner-Platz 2-10\, 90443 Nürnberg
STATUS:CONFIRMED
END:VEVENT
END:VCALENDAR