BEGIN:VCALENDAR
VERSION:2.0
PRODID:-//Doppelpunkt//Events//DE
CALSCALE:GREGORIAN
METHOD:PUBLISH
BEGIN:VEVENT
UID:event-668@www.doppelpunkt.de
DTSTAMP:20260425T122816
DTSTART:20260207T190000
DTEND:20260207T190000
SUMMARY:Erzählbühne/Michl Zirk: "Geschichten aus der Lach-Bar und der Schalk-Haft"
LOCATION:Zeltnerschloss\, Gleißhammerstr. 6\, 90480 Nürnberg
STATUS:CONFIRMED
END:VEVENT
END:VCALENDAR