BEGIN:VCALENDAR
VERSION:2.0
PRODID:-//Doppelpunkt//Events//DE
CALSCALE:GREGORIAN
METHOD:PUBLISH
BEGIN:VEVENT
UID:event-6324-8770@www.doppelpunkt.de
DTSTAMP:20260421T112042
DTSTART:20260410T100000
DTEND:20260628T235900
SUMMARY:„Mit Dürer im Herzen - Die niederländische Reise von Michael Mathias Prechtl" (Ausstellungsbeginn)
LOCATION:Albrecht-Dürer-Haus\, Albrecht-Dürer-Str. 39\, 90403 Nürnberg
STATUS:CONFIRMED
END:VEVENT
END:VCALENDAR