BEGIN:VCALENDAR
VERSION:2.0
PRODID:-//Doppelpunkt//Events//DE
CALSCALE:GREGORIAN
METHOD:PUBLISH
BEGIN:VEVENT
UID:event-5602@www.doppelpunkt.de
DTSTAMP:20260421T105855
DTSTART:20260225T200000
DTEND:20260225T220000
SUMMARY:The Global Blues Resistance - Die neue Allstar-Band am Fusion-Blues-Himmel
DESCRIPTION:‚The Global Blues Resistance‘ ist weit mehr als nur eine Band - sie ist eine Bastion der handgemachten Musik\, ein Schutzraum für Gitarrensoli\, ein Refugium für Freunde der Vielfalt des Blues. \nMit einer beeindruckenden Besetzung bestehend aus Peter Pelzner an der Gitarre\, Julia ‚Jules‘ Fischer an der Orgel\, Ferdinand Roscher am Kontrabass und Simon Froschauer am Schlagzeug zelebriert die Band eine Fusion aus Blues\, Funk und Groove\, die das Publikum nicht mehr stillsitzen lässt. \nDank der gemeins...
LOCATION:Kofferfabrik\, Lange Str. 81\, 90762 Fürth
STATUS:CONFIRMED
END:VEVENT
END:VCALENDAR