BEGIN:VCALENDAR
VERSION:2.0
PRODID:-//Doppelpunkt//Events//DE
CALSCALE:GREGORIAN
METHOD:PUBLISH
BEGIN:VEVENT
UID:event-5582@www.doppelpunkt.de
DTSTAMP:20260421T145800
DTSTART:20260313T193000
DTEND:20260313T213000
SUMMARY:QUARTONAL
DESCRIPTION:Das A-cappella-Ensemble Quartonal hat seine Wurzeln in Norddeutschland bei den Chorknaben Uetersen und gehört heute zu den gefragtesten Vokalensembles Deutschlands. Die vier Sänger begeistern bei ihren Konzerten nicht nur mit einem überaus vielseitigen Repertoire\, sondern auch mit ihrer Hingabe zum musikalischen Detail und nicht zuletzt mit ihrer humorvollen Art.Das Repertoire der Gruppe deckt einen Großteil des Spektrums ab\, welches die internationale A-cappella-Literatur für ihre Besetzung her...
LOCATION:Kulisse - Theater und Raum\, Dorfstraße 6\, 29578 Eimke
STATUS:CONFIRMED
END:VEVENT
END:VCALENDAR