BEGIN:VCALENDAR
VERSION:2.0
PRODID:-//Doppelpunkt//Events//DE
CALSCALE:GREGORIAN
METHOD:PUBLISH
BEGIN:VEVENT
UID:event-5575@www.doppelpunkt.de
DTSTAMP:20260421T111541
DTSTART:20260311T193000
DTEND:20260311T193000
SUMMARY:"Lesen für Bier" mit Kathi Mock
LOCATION:Parks\, Berliner Platz 9\, 90409 Nürnberg
STATUS:CONFIRMED
END:VEVENT
END:VCALENDAR