BEGIN:VCALENDAR
VERSION:2.0
PRODID:-//Doppelpunkt//Events//DE
CALSCALE:GREGORIAN
METHOD:PUBLISH
BEGIN:VEVENT
UID:event-5545@www.doppelpunkt.de
DTSTAMP:20260421T105625
DTSTART:20260305T190000
DTEND:20260305T190000
SUMMARY:Miller the Killer und Kola (Rock/Rock'n'Roll)
LOCATION:Stadtmuseum Fürth\, Ottostr. 2\, 90762 Fürth
STATUS:CONFIRMED
END:VEVENT
END:VCALENDAR