BEGIN:VCALENDAR
VERSION:2.0
PRODID:-//Doppelpunkt//Events//DE
CALSCALE:GREGORIAN
METHOD:PUBLISH
BEGIN:VEVENT
UID:event-5453@www.doppelpunkt.de
DTSTAMP:20260419T165213
DTSTART:20260310T180000
DTEND:20260310T180000
SUMMARY:Buchpräsentation: "Feste und Frömmigkeit in Franken – Kirchweihen und Wallfahrten vom Mittelalter bis zur Gegenwart"
LOCATION:Stadtmuseum Fürth\, Ottostr. 2\, 90762 Fürth
STATUS:CONFIRMED
END:VEVENT
END:VCALENDAR