BEGIN:VCALENDAR
VERSION:2.0
PRODID:-//Doppelpunkt//Events//DE
CALSCALE:GREGORIAN
METHOD:PUBLISH
BEGIN:VEVENT
UID:event-5311@www.doppelpunkt.de
DTSTAMP:20260421T111722
DTSTART:20260305T220000
DTEND:20260305T220000
SUMMARY:Filmfestival Türkei-Deutschland: Live Music mit Korhan Özyıldız & Fatih Yaşar
LOCATION:Künstlerhaus Festivallounge\, Königstr. 93\, 90402 Nürnberg
STATUS:CONFIRMED
END:VEVENT
END:VCALENDAR