BEGIN:VCALENDAR
VERSION:2.0
PRODID:-//Doppelpunkt//Events//DE
CALSCALE:GREGORIAN
METHOD:PUBLISH
BEGIN:VEVENT
UID:event-5291@www.doppelpunkt.de
DTSTAMP:20260421T111733
DTSTART:20260305T180000
DTEND:20260305T180000
SUMMARY:Filmfestival Türkei-Deutschland: Plan F\, 20.30 O Da Bir Şey Mi • Ist das alles
LOCATION:Filmhaus Nürnberg\, Königstr. 93\, 90403 Nürnberg
STATUS:CONFIRMED
END:VEVENT
END:VCALENDAR