BEGIN:VCALENDAR
VERSION:2.0
PRODID:-//Doppelpunkt//Events//DE
CALSCALE:GREGORIAN
METHOD:PUBLISH
BEGIN:VEVENT
UID:event-5284@www.doppelpunkt.de
DTSTAMP:20260421T105812
DTSTART:20260308T180000
DTEND:20260308T180000
SUMMARY:Filmfestival Türkei-Deutschland: Bester Kurzfilm + Bester Spielfilm • En iyi Kısa Film + En iyi Uzun Metraj\, 20.30 Film mit Öngören Preis • Öngören Ödüllü Film
LOCATION:Kommkino\, Königstr. 93\, 90403 Nürnberg
STATUS:CONFIRMED
END:VEVENT
END:VCALENDAR