BEGIN:VCALENDAR
VERSION:2.0
PRODID:-//Doppelpunkt//Events//DE
CALSCALE:GREGORIAN
METHOD:PUBLISH
BEGIN:VEVENT
UID:event-5158@www.doppelpunkt.de
DTSTAMP:20260421T111721
DTSTART:20260307T194500
DTEND:20260307T194500
SUMMARY:On! (Punk/Rock/Indie)\, Support: Kann Karate
LOCATION:Club Stereo\, Klaragasse 8\, 90402 Nürnberg
STATUS:CONFIRMED
END:VEVENT
END:VCALENDAR