BEGIN:VCALENDAR
VERSION:2.0
PRODID:-//Doppelpunkt//Events//DE
CALSCALE:GREGORIAN
METHOD:PUBLISH
BEGIN:VEVENT
UID:event-4958@www.doppelpunkt.de
DTSTAMP:20260421T111733
DTSTART:20260304T193000
DTEND:20260304T193000
SUMMARY:Vortrag: "In die Sahara"
LOCATION:Kulturladen Loni Übler Haus\, Marthastraße 60\, 90482 Nürnberg
STATUS:CONFIRMED
END:VEVENT
END:VCALENDAR