BEGIN:VCALENDAR
VERSION:2.0
PRODID:-//Doppelpunkt//Events//DE
CALSCALE:GREGORIAN
METHOD:PUBLISH
BEGIN:VEVENT
UID:event-4914@www.doppelpunkt.de
DTSTAMP:20260425T123733
DTSTART:20260209T183000
DTEND:20260209T183000
SUMMARY:"Auf ein Seidla": Wer wird der neue Oberbügermeister oder die neue Oberbürgermeisterin von Nürnberg - und mit welchen Ideen? zu Gast: Marcus König (CSU)
LOCATION:Ludwigs Bar\, Innere Laufer Gasse 35\, 90403 Nürnberg
STATUS:CONFIRMED
END:VEVENT
END:VCALENDAR