BEGIN:VCALENDAR
VERSION:2.0
PRODID:-//Doppelpunkt//Events//DE
CALSCALE:GREGORIAN
METHOD:PUBLISH
BEGIN:VEVENT
UID:event-4913@www.doppelpunkt.de
DTSTAMP:20260425T123901
DTSTART:20260205T170000
DTEND:20260205T170000
SUMMARY:"Auf ein Seidla": Wer wird der neue Oberbügermeister oder die neue Oberbürgermeisterin von Nürnberg - und mit welchen Ideen? zu Gast: Nasser Ahmed (SPD)
LOCATION:Ludwigs Bar\, Innere Laufer Gasse 35\, 90403 Nürnberg
STATUS:CONFIRMED
END:VEVENT
END:VCALENDAR