BEGIN:VCALENDAR
VERSION:2.0
PRODID:-//Doppelpunkt//Events//DE
CALSCALE:GREGORIAN
METHOD:PUBLISH
BEGIN:VEVENT
UID:event-4880@www.doppelpunkt.de
DTSTAMP:20260419T171336
DTSTART:20260208T180000
DTEND:20260208T180000
SUMMARY:Kapelle Bomhard (fränk. Lieder)
LOCATION:Weißes Ross\, Hauptstr. 25\, 91586 Immeldorf
STATUS:CONFIRMED
END:VEVENT
END:VCALENDAR