BEGIN:VCALENDAR
VERSION:2.0
PRODID:-//Doppelpunkt//Events//DE
CALSCALE:GREGORIAN
METHOD:PUBLISH
BEGIN:VEVENT
UID:event-4878@www.doppelpunkt.de
DTSTAMP:20260425T122907
DTSTART:20260207T110000
DTEND:20260207T110000
SUMMARY:Saatenmarkt für alte Nutzpflanzen
LOCATION:Zeltnerschloss\, Gleißhammerstr. 6\, 90480 Nürnberg
STATUS:CONFIRMED
END:VEVENT
END:VCALENDAR