BEGIN:VCALENDAR
VERSION:2.0
PRODID:-//Doppelpunkt//Events//DE
CALSCALE:GREGORIAN
METHOD:PUBLISH
BEGIN:VEVENT
UID:event-4877@www.doppelpunkt.de
DTSTAMP:20260419T150148
DTSTART:20260205T190000
DTEND:20260207T235900
SUMMARY:co>Labs: "So forsch\, so furchtlos"\, multimediales Tanz- und Performance-Projekt
DESCRIPTION:Die Koproduktion mit dem Gesch&auml\;ftsbereich Kultur der Stadt N&uuml\;rnberg untersucht populistische und antidemokratische Versprechungen von Idylle und setzt sich k&uuml\;nstlerisch mit ihnen auseinander.
LOCATION:Kongresshalle Segment #16\, Bayernstr. 100\, 90471 Nürnberg
STATUS:CONFIRMED
END:VEVENT
END:VCALENDAR