BEGIN:VCALENDAR
VERSION:2.0
PRODID:-//Doppelpunkt//Events//DE
CALSCALE:GREGORIAN
METHOD:PUBLISH
BEGIN:VEVENT
UID:event-4876@www.doppelpunkt.de
DTSTAMP:20260425T141359
DTSTART:20260205T180000
DTEND:20260205T180000
SUMMARY:Autorinnenlesung mit Alena Jabarine: "Der letzte Himmel - Meine Suche nach Palästina"
LOCATION:Bildungszentrum - Stadt Nürnberg\, Gewerbemuseumsplatz 1\, 90403 Nürnberg
STATUS:CONFIRMED
END:VEVENT
END:VCALENDAR