BEGIN:VCALENDAR
VERSION:2.0
PRODID:-//Doppelpunkt//Events//DE
CALSCALE:GREGORIAN
METHOD:PUBLISH
BEGIN:VEVENT
UID:event-4857@www.doppelpunkt.de
DTSTAMP:20260421T105540
DTSTART:20260305T200000
DTEND:20260305T200000
SUMMARY:Gankino Circus (Polka-Pop/Rock'n'Roll/Comedy)
LOCATION:Kulturfabrik Roth\, Stieberstr. 7\, 91154 Roth
STATUS:CONFIRMED
END:VEVENT
END:VCALENDAR