BEGIN:VCALENDAR
VERSION:2.0
PRODID:-//Doppelpunkt//Events//DE
CALSCALE:GREGORIAN
METHOD:PUBLISH
BEGIN:VEVENT
UID:event-4851@www.doppelpunkt.de
DTSTAMP:20260421T105720
DTSTART:20260305T200000
DTEND:20260305T200000
SUMMARY:Frank Muschalle (Swing/Blues/Boogie Woogie)
LOCATION:Casa de la Trova\, Zum Sportheim 13\, 90530 Wendelstein
STATUS:CONFIRMED
END:VEVENT
END:VCALENDAR