BEGIN:VCALENDAR
VERSION:2.0
PRODID:-//Doppelpunkt//Events//DE
CALSCALE:GREGORIAN
METHOD:PUBLISH
BEGIN:VEVENT
UID:event-4809@www.doppelpunkt.de
DTSTAMP:20260419T151742
DTSTART:20260131T170000
DTEND:20260131T170000
SUMMARY:Meistercelli (Barock/Tango/Klassik)
LOCATION:Hirsvogelsaal/Museum Tucherschloss\, Eingang Treibberg 6\, 90403 Nürnberg
STATUS:CONFIRMED
END:VEVENT
END:VCALENDAR