BEGIN:VCALENDAR
VERSION:2.0
PRODID:-//Doppelpunkt//Events//DE
CALSCALE:GREGORIAN
METHOD:PUBLISH
BEGIN:VEVENT
UID:event-4808@www.doppelpunkt.de
DTSTAMP:20260421T111545
DTSTART:20260202T200000
DTEND:20260203T235900
SUMMARY:Robert Gromotka & Jonas Hain (Neo-Klassik)
LOCATION:Literaturhaus\, Luitpoldstr. 6\, 90402 Nürnberg
STATUS:CONFIRMED
END:VEVENT
END:VCALENDAR