BEGIN:VCALENDAR
VERSION:2.0
PRODID:-//Doppelpunkt//Events//DE
CALSCALE:GREGORIAN
METHOD:PUBLISH
BEGIN:VEVENT
UID:event-4807@www.doppelpunkt.de
DTSTAMP:20260425T122821
DTSTART:20260208T180000
DTEND:20260208T180000
SUMMARY:"2 x 2 - Der Talk "\, zu Gast: Hilde Pohl und Oliver Tissot
LOCATION:Theater Rote Bühne\, Vordere Cramergasse 11\, 90478 Nürnberg
STATUS:CONFIRMED
END:VEVENT
END:VCALENDAR