BEGIN:VCALENDAR
VERSION:2.0
PRODID:-//Doppelpunkt//Events//DE
CALSCALE:GREGORIAN
METHOD:PUBLISH
BEGIN:VEVENT
UID:event-4796@www.doppelpunkt.de
DTSTAMP:20260423T150034
DTSTART:20260307T200000
DTEND:20260307T200000
SUMMARY:Kreuzgangspiele extra: Johann Anzenberger u. Bele Turba: "Karl Valentin und Liesl Karlstadt – die besten Szenen"
LOCATION:Stadthalle Kasten\, 91555 Feuchtwangen
STATUS:CONFIRMED
END:VEVENT
END:VCALENDAR