BEGIN:VCALENDAR
VERSION:2.0
PRODID:-//Doppelpunkt//Events//DE
CALSCALE:GREGORIAN
METHOD:PUBLISH
BEGIN:VEVENT
UID:event-4793@www.doppelpunkt.de
DTSTAMP:20260421T111647
DTSTART:20260207T200000
DTEND:20260207T200000
SUMMARY:Martin Brambrach: "Es wird schon nicht so schlimm"\, szen. Lesung
LOCATION:Stadthalle Kasten\, 91555 Feuchtwangen
STATUS:CONFIRMED
END:VEVENT
END:VCALENDAR