BEGIN:VCALENDAR
VERSION:2.0
PRODID:-//Doppelpunkt//Events//DE
CALSCALE:GREGORIAN
METHOD:PUBLISH
BEGIN:VEVENT
UID:event-4792@www.doppelpunkt.de
DTSTAMP:20260425T122817
DTSTART:20260215T143000
DTEND:20260215T143000
SUMMARY:Winteraustreiben mit den Effeltricher Fasalecken
LOCATION:Jahnhalle\, Jahnstr. 11\, 91083 Baiersdorf
STATUS:CONFIRMED
END:VEVENT
END:VCALENDAR