BEGIN:VCALENDAR
VERSION:2.0
PRODID:-//Doppelpunkt//Events//DE
CALSCALE:GREGORIAN
METHOD:PUBLISH
BEGIN:VEVENT
UID:event-4791@www.doppelpunkt.de
DTSTAMP:20260421T111721
DTSTART:20260207T183000
DTEND:20260207T183000
SUMMARY:Jazz Band Ball mit The Dixie Bones\, die Big Band der Jugendkapelle Eckental und Krüger Rockt\; Salsa DJs\, Specials\, Kostüme erwünscht!
DESCRIPTION:www.jazzbandball.de.
LOCATION:Redoutensaal Erlangen\, Theaterplatz 1\, 91054 Erlangen
STATUS:CONFIRMED
END:VEVENT
END:VCALENDAR