BEGIN:VCALENDAR
VERSION:2.0
PRODID:-//Doppelpunkt//Events//DE
CALSCALE:GREGORIAN
METHOD:PUBLISH
BEGIN:VEVENT
UID:event-4788@www.doppelpunkt.de
DTSTAMP:20260421T105814
DTSTART:20260305T210000
DTEND:20260305T210000
SUMMARY:Lazy Friends & Family (60s-80s Rock/Pop-Cover)
LOCATION:Brown Sugar\, Königstorgraben 3\, 90402 Nürnberg
STATUS:CONFIRMED
END:VEVENT
END:VCALENDAR