BEGIN:VCALENDAR
VERSION:2.0
PRODID:-//Doppelpunkt//Events//DE
CALSCALE:GREGORIAN
METHOD:PUBLISH
BEGIN:VEVENT
UID:event-4779@www.doppelpunkt.de
DTSTAMP:20260425T141956
DTSTART:20260205T193000
DTEND:20260205T193000
SUMMARY:Autorenlesung mit Dr. Simon Strauß: "In der Nähe – Vom politischen Wert einer ostdeutschen Sehnsucht“
LOCATION:Fabersaal/Bildungszentrum\, Gewerbemuseumsplatz 2\, 90403 Nürnberg
STATUS:CONFIRMED
END:VEVENT
END:VCALENDAR