BEGIN:VCALENDAR
VERSION:2.0
PRODID:-//Doppelpunkt//Events//DE
CALSCALE:GREGORIAN
METHOD:PUBLISH
BEGIN:VEVENT
UID:event-4766@www.doppelpunkt.de
DTSTAMP:20260425T135754
DTSTART:20260131T100000
DTEND:20260131T100000
SUMMARY:"Stuzubi"\, Studien- u. Ausbildungsmesse für Schüler:innen\, Eltern und Lehrkräfte
LOCATION:Meistersingerhalle\, Münchener Str. 21\, 90478 Nürnberg
STATUS:CONFIRMED
END:VEVENT
END:VCALENDAR