BEGIN:VCALENDAR
VERSION:2.0
PRODID:-//Doppelpunkt//Events//DE
CALSCALE:GREGORIAN
METHOD:PUBLISH
BEGIN:VEVENT
UID:event-4746-6384@www.doppelpunkt.de
DTSTAMP:20260421T111937
DTSTART:20260419T190000
DTEND:20260419T210000
SUMMARY:Autorinnenlesung mit Monika Martin: "Schandmantel“\, mit Menü
LOCATION:Gutmann\, Bayernstr. 150\, 90478 Nürnberg
STATUS:CONFIRMED
END:VEVENT
END:VCALENDAR