BEGIN:VCALENDAR
VERSION:2.0
PRODID:-//Doppelpunkt//Events//DE
CALSCALE:GREGORIAN
METHOD:PUBLISH
BEGIN:VEVENT
UID:event-4666@www.doppelpunkt.de
DTSTAMP:20260421T111547
DTSTART:20260305T200000
DTEND:20260305T200000
SUMMARY:Ausverkauft: KAMRAD (Pop/RnB/EDM)\, Support: SOLEROY
LOCATION:Löwensaal\, Schmausenbuckstr. 166\, 90480 Nürnberg
STATUS:CONFIRMED
END:VEVENT
END:VCALENDAR