BEGIN:VCALENDAR
VERSION:2.0
PRODID:-//Doppelpunkt//Events//DE
CALSCALE:GREGORIAN
METHOD:PUBLISH
BEGIN:VEVENT
UID:event-4564@www.doppelpunkt.de
DTSTAMP:20260421T105522
DTSTART:20260205T130000
DTEND:20260205T130000
SUMMARY:"Mach mal Zukunft"-Festival: Workshops\, Aktionen u. Live-Musik zum Thema: "Jugend.Ideen.Verändern"
LOCATION:E-Werk\, Fuchsenwiese 1\, 91054 Erlangen
STATUS:CONFIRMED
END:VEVENT
END:VCALENDAR