BEGIN:VCALENDAR
VERSION:2.0
PRODID:-//Doppelpunkt//Events//DE
CALSCALE:GREGORIAN
METHOD:PUBLISH
BEGIN:VEVENT
UID:event-4540@www.doppelpunkt.de
DTSTAMP:20260421T111541
DTSTART:20260207T200000
DTEND:20260207T200000
SUMMARY:"Gala gegen das Über"\, Music & Art Festival mit Sasha Kills\, Doc Wör Mirran\, faucht\, Harald „Sack“ Ziegler\, „god“\, Hans Plesch und Palanca
LOCATION:Künstlerhaus Soft Spot\, Königstr. 93\, 90429 Nürnberg
STATUS:CONFIRMED
END:VEVENT
END:VCALENDAR