BEGIN:VCALENDAR
VERSION:2.0
PRODID:-//Doppelpunkt//Events//DE
CALSCALE:GREGORIAN
METHOD:PUBLISH
BEGIN:VEVENT
UID:event-4539@www.doppelpunkt.de
DTSTAMP:20260425T121948
DTSTART:20260203T193000
DTEND:20260203T193000
SUMMARY:So Sner (elekronische/experimentelle Musik)
LOCATION:Künstlerhaus Soft Spot\, Königstr. 93\, 90429 Nürnberg
STATUS:CONFIRMED
END:VEVENT
END:VCALENDAR