BEGIN:VCALENDAR
VERSION:2.0
PRODID:-//Doppelpunkt//Events//DE
CALSCALE:GREGORIAN
METHOD:PUBLISH
BEGIN:VEVENT
UID:event-4537@www.doppelpunkt.de
DTSTAMP:20260425T141727
DTSTART:20260124T220000
DTEND:20260124T220000
SUMMARY:"Bass Party" mit DJs Tobiolo\, Stereokultur\, yummii\, iseekyou
LOCATION:Künstlerhaus Soft Spot\, Königstr. 93\, 90429 Nürnberg
STATUS:CONFIRMED
END:VEVENT
END:VCALENDAR