BEGIN:VCALENDAR
VERSION:2.0
PRODID:-//Doppelpunkt//Events//DE
CALSCALE:GREGORIAN
METHOD:PUBLISH
BEGIN:VEVENT
UID:event-4533@www.doppelpunkt.de
DTSTAMP:20260425T135305
DTSTART:20260125T170000
DTEND:20260125T170000
SUMMARY:Akademie der Staatsphilharmonie Nürnberg: Benefiz-Konzert zur Vesperkirche
LOCATION:Gustav-Adolf-Gedächtniskirche\, Allersberger Str. 114\, 90461 Nürnberg
STATUS:CONFIRMED
END:VEVENT
END:VCALENDAR