BEGIN:VCALENDAR
VERSION:2.0
PRODID:-//Doppelpunkt//Events//DE
CALSCALE:GREGORIAN
METHOD:PUBLISH
BEGIN:VEVENT
UID:event-4532@www.doppelpunkt.de
DTSTAMP:20260425T141514
DTSTART:20260124T193000
DTEND:20260124T193000
SUMMARY:Katona Twins (klass. Gitarre/Klassik/Pop)
LOCATION:Schloss Burgfarrnbach\, Schlosshof 12\, 90768 Fürth
STATUS:CONFIRMED
END:VEVENT
END:VCALENDAR