BEGIN:VCALENDAR
VERSION:2.0
PRODID:-//Doppelpunkt//Events//DE
CALSCALE:GREGORIAN
METHOD:PUBLISH
BEGIN:VEVENT
UID:event-4530@www.doppelpunkt.de
DTSTAMP:20260421T111540
DTSTART:20260207T193000
DTEND:20260207T193000
SUMMARY:"Faschings-Party"\, 70er-90er Party Hits
DESCRIPTION:Bitte reservieren unter: 0174-7286670
LOCATION:Sportgaststätte Superb\, Neumühlweg 160\, 90449 Nürnberg
STATUS:CONFIRMED
END:VEVENT
END:VCALENDAR