BEGIN:VCALENDAR
VERSION:2.0
PRODID:-//Doppelpunkt//Events//DE
CALSCALE:GREGORIAN
METHOD:PUBLISH
BEGIN:VEVENT
UID:event-4526@www.doppelpunkt.de
DTSTAMP:20260425T141946
DTSTART:20260121T201500
DTEND:20260121T201500
SUMMARY:BR-Bürgerdiskussion: "Jetzt red I"
LOCATION:BR-Studio Franken\, Wallensteinstr. 117\, 90431 Nürnberg
STATUS:CONFIRMED
END:VEVENT
END:VCALENDAR