BEGIN:VCALENDAR
VERSION:2.0
PRODID:-//Doppelpunkt//Events//DE
CALSCALE:GREGORIAN
METHOD:PUBLISH
BEGIN:VEVENT
UID:event-4525@www.doppelpunkt.de
DTSTAMP:20260425T140815
DTSTART:20260124T200000
DTEND:20260124T200000
SUMMARY:Tacaeddish (Tango/Klezmer/Celtic)
LOCATION:Babylon Kellerbühne\, Nürnberger Str. 3\, 90762 Fürth
STATUS:CONFIRMED
END:VEVENT
END:VCALENDAR