BEGIN:VCALENDAR
VERSION:2.0
PRODID:-//Doppelpunkt//Events//DE
CALSCALE:GREGORIAN
METHOD:PUBLISH
BEGIN:VEVENT
UID:event-4524@www.doppelpunkt.de
DTSTAMP:20260425T140552
DTSTART:20260122T180000
DTEND:20260122T180000
SUMMARY:Autorenlesung mit Daniel Schreiber: "Liebe! Ein Aufruf"
LOCATION:Bildungszentrum - Stadt Nürnberg\, Gewerbemuseumsplatz 1\, 90403 Nürnberg
STATUS:CONFIRMED
END:VEVENT
END:VCALENDAR