BEGIN:VCALENDAR
VERSION:2.0
PRODID:-//Doppelpunkt//Events//DE
CALSCALE:GREGORIAN
METHOD:PUBLISH
BEGIN:VEVENT
UID:event-4522@www.doppelpunkt.de
DTSTAMP:20260425T135638
DTSTART:20260131T193000
DTEND:20260131T193000
SUMMARY:The Creeping Candies (Blues/PostPunk/60s)
LOCATION:Kulturort Badstr. 8\, Badstr. 8\, 90762 Fürth
STATUS:CONFIRMED
END:VEVENT
END:VCALENDAR