BEGIN:VCALENDAR
VERSION:2.0
PRODID:-//Doppelpunkt//Events//DE
CALSCALE:GREGORIAN
METHOD:PUBLISH
BEGIN:VEVENT
UID:event-4521@www.doppelpunkt.de
DTSTAMP:20260425T141401
DTSTART:20260122T183000
DTEND:20260122T183000
SUMMARY:Autorenlesung mit Gilda Sahebi: "Verbinden statt spalten: Eine Antwort auf die Politik der Polarisierung"
LOCATION:Caritas-Pirckheimer-Haus\, Königstr. 64\, 90402 Nürnberg
STATUS:CONFIRMED
END:VEVENT
END:VCALENDAR